BEGIN:VCALENDAR
VERSION:2.0
PRODID:-//wp-events-plugin.com//7.2.3.1//EN
TZID:America/Los_Angeles
X-WR-TIMEZONE:America/Los_Angeles
BEGIN:VEVENT
UID:5906@treglobal.org
DTSTART;TZID=America/Los_Angeles:20231014T080000
DTEND;TZID=America/Los_Angeles:20231016T140000
DTSTAMP:20230816T204053Z
URL:https://treglobal.org/event/enhancing-tre-for-providers-integration-wi
 thin-self-and-community/
SUMMARY:Online Workshop for Providers on Integration
DESCRIPTION:Enhancing TRE™ for Providers : Integration Within - Self and 
 Community -\nOnline live event with Canadian certification trainers Sara C
 lark\, Carolyn Hapgood (Trainer trainee)\, Wendy Morley and Sarah Ronhovde
 .\n\nGuest speakers : Joan McDonald\, Mariano Pedroza and David Berceli.\n
 \nInformation and registration here
ATTACH;FMTTYPE=image/jpeg:https://treglobal.org/wp-content/uploads/2023/08
 /EnhancingTRE_TFA-1.png
CATEGORIES:Intro Workshops / Recurring Classes / Online Events,TRE®
 Continuing Education / Specialty Training
LOCATION:https://www.communitre.com/enhancing-tre-oct2023
END:VEVENT
BEGIN:VTIMEZONE
TZID:America/Los_Angeles
X-LIC-LOCATION:America/Los_Angeles
BEGIN:DAYLIGHT
DTSTART:20230312T030000
TZOFFSETFROM:-0800
TZOFFSETTO:-0700
TZNAME:PDT
END:DAYLIGHT
END:VTIMEZONE
END:VCALENDAR