BEGIN:VCALENDAR
VERSION:2.0
PRODID:-//wp-events-plugin.com//7.2.3.1//EN
TZID:America/Los_Angeles
X-WR-TIMEZONE:America/Los_Angeles
BEGIN:VEVENT
UID:5948@treglobal.org
DTSTART;TZID=America/New_York:20231210T130000
DTEND;TZID=America/New_York:20231210T190000
DTSTAMP:20231030T163330Z
URL:https://treglobal.org/event/emotional-liberation-using-tre-guided-medi
 tation-retreat/
SUMMARY:Emotional Liberation: Using TRE™ + Guided Meditation Retreat\,
DESCRIPTION:At the Sault Haus in Hopewell Township NJ with Bonnie Pariser\n
 \nUsing the Tension &amp\; Trauma Release Exercises (TRE™)\, self-inquir
 y &amp\; some guided meditation\, we begin to release the entanglement of 
 reactive emotional patterns. This retreat day is for anyone who has notice
 d they continue to respond to triggers &amp\; would like to be free of tha
 t predicted connection.\n\nExpect journaling &amp\; guided meditation\, TR
 E practice session &amp\; swadyaya (self-study) to find this release &amp\
 ; relief.\n\nSunday 12/10\n\n1-7PM\n\nEarly bird pricing $150 until 12/3\,
  $175 after.
CATEGORIES:Intro Workshops / Recurring Classes / Online Events
LOCATION:https://www.saulthaus.com/
END:VEVENT
BEGIN:VTIMEZONE
TZID:America/New_York
X-LIC-LOCATION:America/New_York
BEGIN:STANDARD
DTSTART:20231105T010000
TZOFFSETFROM:-0400
TZOFFSETTO:-0500
TZNAME:EST
END:STANDARD
END:VTIMEZONE
END:VCALENDAR