BEGIN:VCALENDAR
VERSION:2.0
PRODID:-//wp-events-plugin.com//7.2.3.1//EN
TZID:America/Los_Angeles
X-WR-TIMEZONE:America/Los_Angeles
BEGIN:VEVENT
UID:6087@treglobal.org
DTSTART;TZID=America/New_York:20240929T130000
DTEND;TZID=America/New_York:20240929T180000
DTSTAMP:20240724T160134Z
URL:https://treglobal.org/event/emotional-liberation-using-tre-guided-medi
 tation-retreat-2/
SUMMARY:Emotional Liberation: Using TRE™ + Guided Meditation Retreat\,
DESCRIPTION:Take in the beauty of Sault Haus during this day retreat: the s
 alt cave\, the studio + outdoors! Using the Tension &amp\; Trauma Release 
 Exercises (TRE™)\, journaling\, self-inquiry &amp\; guided meditation\, 
 we begin to release the entanglement of reactive emotional patterns. This 
 retreat day is for anyone who has noticed they continue to respond to trig
 gers &amp\; would like to be free of that predicted connection.\nWith Bonn
 ie Pariser\, founder of Yoga Loka\, certified TRE facilitator.\n\nSunday 1
 -6 pm EST\n\n9/29\n\nEarly bird: $150 until 9/22. $175 after\n\nMore infor
 mation and to sign up https://www.saulthaus.com/
CATEGORIES:Intro Workshops / Recurring Classes / Online Events
LOCATION:https://www.saulthaus.com/
END:VEVENT
BEGIN:VTIMEZONE
TZID:America/New_York
X-LIC-LOCATION:America/New_York
BEGIN:DAYLIGHT
DTSTART:20240310T030000
TZOFFSETFROM:-0500
TZOFFSETTO:-0400
TZNAME:EDT
END:DAYLIGHT
END:VTIMEZONE
END:VCALENDAR