BEGIN:VCALENDAR
VERSION:2.0
PRODID:-//wp-events-plugin.com//7.2.3.1//EN
TZID:America/Los_Angeles
X-WR-TIMEZONE:America/Los_Angeles
BEGIN:VEVENT
UID:5846@treglobal.org
DTSTART;TZID=America/Los_Angeles:20230501T190000
DTEND;TZID=America/Los_Angeles:20230501T203000
DTSTAMP:20230427T043554Z
URL:https://treglobal.org/event/embodied-movement-and-neurogenic-tremors-c
 lass-at-the-dragon-the-rose-santa-ana-california/
SUMMARY:Embodied Movement and Neurogenic Tremors Class at The Dragon &amp\;
  The Rose\, Santa Ana\, California
DESCRIPTION:A Collaboration between MaryAnne Certified S Factor Instructor 
 and Sai Danchuk Certified in TRE\, Emotional Tour and Reiki.\n\nBringing y
 ou a Feminine Based Exercise to reconnect with your inner spirit while you
  stretch and fatigue TRE targeted muscles to engage in Neurogenic Tremors.
 \n\nIt's a series of embodied movements encouraging you to build deeper bo
 dy trust and connect with your inner spirit\, as you stretch and fatigue t
 he targeted muscles needed to engage Neurogenic Tremors.\n\nIf you have fu
 rther questions or inquiries about the session\, please call 1-206-271-579
 0\n\nYour Investment:\nEarly Bird: $49 (Book 5days ahead)\nYour Spot: $55\
 nBring a Friend: $45/each\n\nVisit to book:\nhttps://www.eventbrite.com/e/
 612506311867\n\nIf you'd prefer other forms of payment you can use:\nVenmo
 : @Sai-Danchuk\nCashApp: $SolutionsAmI\nZelle/PayPal: sbjsun@gmail.com\nCa
 sh - RSVP required to ensure there's spots available
ATTACH;FMTTYPE=image/jpeg:https://treglobal.org/wp-content/uploads/2023/04
 /maryannme.jpeg
CATEGORIES:Intro Workshops / Recurring Classes / Online Events
LOCATION:The Dragon and The Rose\, 2424 N Grand Ave Suite K\,\, Santa Ana\,
  California\, 92705\, Orange County California\, United States
X-APPLE-STRUCTURED-LOCATION;VALUE=URI;X-ADDRESS=2424 N Grand Ave Suite K\,\
 , Santa Ana\, California\, 92705\, Orange County California\, United State
 s;X-APPLE-RADIUS=100;X-TITLE=The Dragon and The Rose:geo:0,0
END:VEVENT
BEGIN:VTIMEZONE
TZID:America/Los_Angeles
X-LIC-LOCATION:America/Los_Angeles
BEGIN:DAYLIGHT
DTSTART:20230312T030000
TZOFFSETFROM:-0800
TZOFFSETTO:-0700
TZNAME:PDT
END:DAYLIGHT
END:VTIMEZONE
END:VCALENDAR