BEGIN:VCALENDAR
VERSION:2.0
PRODID:-//wp-events-plugin.com//7.2.3.1//EN
TZID:America/Los_Angeles
X-WR-TIMEZONE:America/Los_Angeles
BEGIN:VEVENT
UID:1257@treglobal.org
DTSTART;TZID=America/Los_Angeles:20151018T093000
DTEND;TZID=America/Los_Angeles:20151018T173000
DTSTAMP:20150630T125102Z
URL:https://treglobal.org/event/edinburgh-scotland-workshop-for-providers-
 with-joan-mcdonald/
SUMMARY:Edinburgh\, Scotland\, Workshop for Providers with Joan McDonald
DESCRIPTION:Come and spend a TRE CPD day with Joan McDonaldin Edinburgh on 
 18 October 2015 This is a great opportunity to learn from a global leader
  in TRE.Joan embodies TRE with her grounded presence. She excitedly shares
  her knowledge and wisdom gained from a highly diverse career.  She is a 
 registered social worker and was an educator in the community college syst
 em. She has been a learning consultant and corporate trainer.  Joan is tr
 ained in bioenergetics and for years had a private counselling practice. 
   She draws on 30 years of experience in managing\, teaching\, counselli
 ng and consulting\, integrating her knowledge and experience in her role a
 s a Certification Trainer\, member of the Trainer Support Team member and 
 ‘TRE For All’ leadership team.  She has extensive experience teaching
  TRE both in Canada and in Asia\, where she lives part time.Joan’s desi
 re to spread TRE in the world and in particular to assist those who have e
 xperienced  the devastating effects of  disaster has taken her to Japan 
 to work with Tsunami survivors\,  to the Philippines as one of two traine
 rs offering provisional certification training following Typhoon Yolanda a
 nd to Myanmar to introduce TRE to traumatized staff of an NGO. She is the 
 initiating trainer for TRE Mission Nepal and co -founder of TRE Humanitari
 an Support Asia. On her first visit to the UK Joan will offer all her kno
 wledge and experience in a CPD day.  Joan will be in Edinburgh for a Modu
 le 1 training and if you are on the certification path and wish to attend 
 another 3-day training for half price £160 email vicki@trescotland.com F
 or anyone who is on Certification path come and explore your own process a
 nd enhance your TRE Provider CompetenciesDeepening your Grounding  - body
  / mind perspectiveGetting hooked into your ego defencesEnhancing your cap
 acity to hold space - shifting from doing to being in  the TRE processPers
 onal tremoringQuestion timeVenue: tbc\, central Edinburgh\, Scotland (if y
 ou require accommodation we recommend www.airbnb.com or the Gillis Centre.
 )Date &amp\; Time: 18 October 2015\, 9.30 – 17.00Cost: £105Contact: vic
 ki@trescotland.com 
CATEGORIES:Intro Workshops / Recurring Classes / Online Events
LOCATION:Edinburgh\, tbc\, Edinburgh\, United Kingdom
GEO:55.953252;-3.188266999999996
X-APPLE-STRUCTURED-LOCATION;VALUE=URI;X-ADDRESS=tbc\, Edinburgh\, United Ki
 ngdom;X-APPLE-RADIUS=100;X-TITLE=Edinburgh:geo:55.953252,-3.18826699999999
 6
END:VEVENT
BEGIN:VTIMEZONE
TZID:America/Los_Angeles
X-LIC-LOCATION:America/Los_Angeles
BEGIN:DAYLIGHT
DTSTART:20150308T030000
TZOFFSETFROM:-0800
TZOFFSETTO:-0700
TZNAME:PDT
END:DAYLIGHT
END:VTIMEZONE
END:VCALENDAR