BEGIN:VCALENDAR
VERSION:2.0
PRODID:-//wp-events-plugin.com//7.2.3.1//EN
TZID:America/Los_Angeles
X-WR-TIMEZONE:America/Los_Angeles
BEGIN:VEVENT
UID:1299@treglobal.org
DTSTART;TZID=America/Los_Angeles:20151023T090000
DTEND;TZID=America/Los_Angeles:20151025T170000
DTSTAMP:20150816T163429Z
URL:https://treglobal.org/event/durban-south-africa-tre-certification-trai
 ning-module-i/
SUMMARY:Durban\, South Africa - TRE Certification Training Module I 
DESCRIPTION:WORKSHOP Module 1 Friday 23 –Sunday 25 October Time: 9am to 5
 pm on Fri/Sat and 9am – 4pm on Sun Venue: UNWIND YOUR LIFE \,8 Montgomer
 y Drive\, Winston Park\, South AfricaModule 1 Workshop can be taken for pe
 rsonal use and learning of TRE. Prospective Provider trainees can decide a
 bout continuing the training AFTER taking Module 1. The fee for the three 
 day Workshop as a stand-alone is ZAR 3500WORKSHOP Module 2 Friday 26 – S
 unday 28 February Venue: UNWIND YOUR LIFE \,8 Montgomery Drive\, Winston P
 ark\, South Africa Time: 9am to 5pm on Fri/Sat and 9am – 4pm on Sun4 Gro
 up Supervision meetings after each Module. (6h on Saturdays). Variations a
 nd individual tracks (eg Skype Supervision) possible if you live at a dist
 ance from Durban but want to participate in the training.  Provisional Ce
 rtification (certification depends on the trainee's readiness\, not on a p
 articular date) June 11 2016 (9am to 1pm)TOTAL FEE: ZAR 16 000Included in 
 the fees: 2 x 3 day Workshops\, Manual\, 8 Supervision meetings of 8 hours
  each\, journal reading and feedback\, four one-on-one sessions\, supervis
 ion of trainee facilitating one-on-one and leading a group\, pre-certifica
 tion and certification\, enrolment with TRE FOR ALL Inc.\, learning plan a
 nd all supervision communication and material.Up to 30 CPD points are avai
 lable for workshops and supervisionPlease visit   http://treforafrica.com
 /kwazulu-natal/  for more information or send an e-mail to su.thomas.tre@
 gmail.com 
LOCATION:TRE - Unwind Your Life \, 8 Montgomery Drive\, Winston Park\, KwaZ
 ulu Natal\, 3610\, South Africa
GEO:-29.816557;30.791608999999994
X-APPLE-STRUCTURED-LOCATION;VALUE=URI;X-ADDRESS=8 Montgomery Drive\, Winsto
 n Park\, KwaZulu Natal\, 3610\, South Africa;X-APPLE-RADIUS=100;X-TITLE=TR
 E - Unwind Your Life :geo:-29.816557,30.791608999999994
END:VEVENT
BEGIN:VTIMEZONE
TZID:America/Los_Angeles
X-LIC-LOCATION:America/Los_Angeles
BEGIN:DAYLIGHT
DTSTART:20150308T030000
TZOFFSETFROM:-0800
TZOFFSETTO:-0700
TZNAME:PDT
END:DAYLIGHT
END:VTIMEZONE
END:VCALENDAR