BEGIN:VCALENDAR
VERSION:2.0
PRODID:-//wp-events-plugin.com//7.2.3.1//EN
TZID:America/Los_Angeles
X-WR-TIMEZONE:America/Los_Angeles
BEGIN:VEVENT
UID:1623@treglobal.org
DTSTART;TZID=America/Los_Angeles:20161014T090000
DTEND;TZID=America/Los_Angeles:20161016T170000
DTSTAMP:20160428T162649Z
URL:https://treglobal.org/event/durango-colorado-tre-global-certification-
 training-module-1/
SUMMARY:Durango\, Colorado - TRE Global Certification Training - Module 1
DESCRIPTION:A 3-day TRE experiential workshop for those interested in learn
 ing TRE for application in a therapeutic setting or as a self-help tool. 
  This 3-day Module 1 training is the first requirement towards becoming a
  Certified TRE Provider and will include:Experiential introduction to TRE 
 and the personal tremoring responseAnatomy\, neurology\, and physiology of
  the stress-trauma response as it relates to TREUnderstanding the tremor r
 esponseIntroduction to Polyvagal Theory (Stephen Porges)Defense reactions\
 , containment\, and grounding strategies as they relate to TREBasic skills
  for teaching TRE to othersThis is an experiential training with a strong 
 focus on the trainee's personal tremoring expereince.  Additional certifi
 cation requirements must be met for full certification and to develop comp
 etencies needed to teach TRE to others.  A full accounting of the TRE Glo
 bal Certification Requirements and associated costs can be found here.Clas
 s size is limited to 15 participants.  Please bring your own yoga mat and
  blankets.  Complimentary water/tea/snacks provided.Dates:Module I:Friday
  Oct 14th\, 2016 9:00am-5:00pmSaturday\, Oct 15th\, 2016 9:00am-5:00pmSund
 ay\, Oct 16th\, 2016 9:00am-5:00pm Module II:Friday\, Feb 24th\, 2017 9:0
 0am-5:00pmSaturday\, Feb 25th\, 2017 9:00am-5:00pmSunday\, Feb 26th\, 2017
  9:00am-5:00pm Cost:$450 Early Registration Discount (by 9/1/16)$500 Regu
 lar RegistrationCancellation policy: Registration fee is fully refundable 
 only with at least a 14-day written notice\, minus a $75 administration fe
 e.  Cancellations less than 14-day notice may be applied to the registrat
 ion fee for the next Module 1 workshop. Instructors:Jessica Shaffer\, Cer
 tified TRE provider and Certification Trainer.  For more information abou
 t Jessica please visit TRE Portland.Rick Stockwell\, PT - Certified TRE pr
 ovider and Certification Trainer Trainee.  For more information about Ric
 k visit Sunrise Physical Therapy.Registration:To register\, click here.  
 For more information\, contact Rick at rick@sunrisephysicaltherapy.com or 
 call (970) 749-5308.
CATEGORIES:Certification Trainings
LOCATION:Fort Lewis College - Student Union Bldg - Senate Chambers (Room 16
 3)\, 100 Rim Drive\, Durango\, Colorado\, 81301\, United States
GEO:37.273844;-107.86951569999997
X-APPLE-STRUCTURED-LOCATION;VALUE=URI;X-ADDRESS=100 Rim Drive\, Durango\, C
 olorado\, 81301\, United States;X-APPLE-RADIUS=100;X-TITLE=Fort Lewis Coll
 ege - Student Union Bldg - Senate Chambers (Room 163):geo:37.273844,-107.8
 6951569999997
END:VEVENT
BEGIN:VTIMEZONE
TZID:America/Los_Angeles
X-LIC-LOCATION:America/Los_Angeles
BEGIN:DAYLIGHT
DTSTART:20160313T030000
TZOFFSETFROM:-0800
TZOFFSETTO:-0700
TZNAME:PDT
END:DAYLIGHT
END:VTIMEZONE
END:VCALENDAR