BEGIN:VCALENDAR
VERSION:2.0
PRODID:-//wp-events-plugin.com//7.2.3.1//EN
TZID:America/Los_Angeles
X-WR-TIMEZONE:America/Los_Angeles
BEGIN:VEVENT
UID:1664@treglobal.org
DTSTART;TZID=America/Los_Angeles:20160611T100000
DTEND;TZID=America/Los_Angeles:20160611T170000
DTSTAMP:20160604T161020Z
URL:https://treglobal.org/event/dublin-ireland-one-day-course/
SUMMARY:Dublin\, Ireland -  One-day course
DESCRIPTION:
CATEGORIES:Intro Workshops / Recurring Classes / Online Events
LOCATION:Oblate Basketball Hall\, Tyrconnell Road\, Inchicore\, Dublin\, 8\
 , Ireland
GEO:53.3392369;-6.321298699999943
X-APPLE-STRUCTURED-LOCATION;VALUE=URI;X-ADDRESS=Tyrconnell Road\, Inchicore
 \, Dublin\, 8\, Ireland;X-APPLE-RADIUS=100;X-TITLE=Oblate Basketball Hall:
 geo:53.3392369,-6.321298699999943
END:VEVENT
BEGIN:VTIMEZONE
TZID:America/Los_Angeles
X-LIC-LOCATION:America/Los_Angeles
BEGIN:DAYLIGHT
DTSTART:20160313T030000
TZOFFSETFROM:-0800
TZOFFSETTO:-0700
TZNAME:PDT
END:DAYLIGHT
END:VTIMEZONE
END:VCALENDAR