BEGIN:VCALENDAR
VERSION:2.0
PRODID:-//wp-events-plugin.com//7.2.3.1//EN
TZID:America/Los_Angeles
X-WR-TIMEZONE:America/Los_Angeles
BEGIN:VEVENT
UID:1261@treglobal.org
DTSTART;TZID=America/Los_Angeles:20150808T100000
DTEND;TZID=America/Los_Angeles:20150808T170000
DTSTAMP:20150706T132306Z
URL:https://treglobal.org/event/dublin-ireland-full-day-tre-workshop-satur
 day-aug-8/
SUMMARY:Dublin\, Ireland. Full-day TRE™ workshop Saturday Aug 8
DESCRIPTION:Full-day workshop.Places limited\, minimum required.Cost €80 
 paid in advance.email &gt\; raymondlambert@eircom.net
CATEGORIES:Intro Workshops / Recurring Classes / Online Events
LOCATION:Dublin\, to be announced\, Dublin\, Ireland
GEO:53.3498053;-6.260309699999993
X-APPLE-STRUCTURED-LOCATION;VALUE=URI;X-ADDRESS=to be announced\, Dublin\, 
 Ireland;X-APPLE-RADIUS=100;X-TITLE=Dublin:geo:53.3498053,-6.26030969999999
 3
END:VEVENT
BEGIN:VTIMEZONE
TZID:America/Los_Angeles
X-LIC-LOCATION:America/Los_Angeles
BEGIN:DAYLIGHT
DTSTART:20150308T030000
TZOFFSETFROM:-0800
TZOFFSETTO:-0700
TZNAME:PDT
END:DAYLIGHT
END:VTIMEZONE
END:VCALENDAR