BEGIN:VCALENDAR
VERSION:2.0
PRODID:-//wp-events-plugin.com//7.2.3.1//EN
TZID:America/Los_Angeles
X-WR-TIMEZONE:America/Los_Angeles
BEGIN:VEVENT
UID:1280@treglobal.org
DTSTART;TZID=America/Los_Angeles:20150904T090000
DTEND;TZID=America/Los_Angeles:20150906T170000
DTSTAMP:20150728T220335Z
URL:https://treglobal.org/event/denver-colorado-tre-certification-training
 -module-1-2/
SUMMARY:Denver\, Colorado - TRE Certification Training - Module 1
DESCRIPTION:Module 1Friday\, September 4th to 6th: 09:00 AM to 05:00 PMCost
  is $499.0010% discount for attendees who enroll before September 7th.For 
 more information contact: PaulMichaelDarby@aol.com
CATEGORIES:Certification Trainings
LOCATION:Neuro-Plasticity Institute\, 639 E. 19th Avenue\, Denver\, Colorad
 o\, 80203\, United States
GEO:39.7463823;-104.97935410000002
X-APPLE-STRUCTURED-LOCATION;VALUE=URI;X-ADDRESS=639 E. 19th Avenue\, Denver
 \, Colorado\, 80203\, United States;X-APPLE-RADIUS=100;X-TITLE=Neuro-Plast
 icity Institute:geo:39.7463823,-104.97935410000002
END:VEVENT
BEGIN:VTIMEZONE
TZID:America/Los_Angeles
X-LIC-LOCATION:America/Los_Angeles
BEGIN:DAYLIGHT
DTSTART:20150308T030000
TZOFFSETFROM:-0800
TZOFFSETTO:-0700
TZNAME:PDT
END:DAYLIGHT
END:VTIMEZONE
END:VCALENDAR