BEGIN:VCALENDAR
VERSION:2.0
PRODID:-//wp-events-plugin.com//7.2.3.1//EN
TZID:America/Los_Angeles
X-WR-TIMEZONE:America/Los_Angeles
BEGIN:VEVENT
UID:1665@treglobal.org
DTSTART;TZID=America/Los_Angeles;VALUE=DATE:20161118
DTEND;TZID=America/Los_Angeles;VALUE=DATE:20161121
DTSTAMP:20160605T184247Z
URL:https://treglobal.org/event/continuous-education-and-group-supervision
 -with-michael-nissen/
SUMMARY:Continuous education and group supervision with Michael Nissen
DESCRIPTION: SUPERVISION IS DESIGNED FOR : • Practitioners and Facilitat
 ors certificated in TRE™ - level I and II• TRE™ Providers • Peopl
 e who are in the certification process On this supervision we will look f
 or answers of following questions:-       What reactions do I have a
 s a TRE™ provider when I work with a person who developed a disease?- 
       How these reactions influence the TRE™ work with the person?-
        How much do we have to know about a disease ?-       Ca
 n we worsen the development of the disease by using TRE™ ?-       
  Can we influence the development of diseases by using TRE?-       
 Is there a connection between over activation of the sympathetic and paras
 ympathetic nervous system and development of certain diseases ?and-   
       we will look at transference and countertransference issues Mi
 chael Nissen.Born in 1965\, psychotherapeutic practice since 2000.Clinical
  Psychologist (University of Copenhagen)\, TRE™ Trainer\, certified bioe
 nergetic psychotherapist (Alexander Lowen)\, training in orgone therapy (W
 ilhelm Reich) and training within different kinds of traumatherapeutic sch
 ools. I’m also a schoolteacher in Sports and Music. I work part-time in 
 my private practice in Copenhagen and Berlin\, and part-time in The Danish
  Multiple Sclerosis Society. I assisted David Berceli on several workshops
  in Denmark and Poland. I have worked with TRE™ with more than 500 peopl
 e with multiple sclerosis. I have published articles in the field of bodyo
 rientated psychotherapy and complementary and alternative medicine and rec
 ently a chapter in David Bercelis latest book: “Using TRE™ with People
  with Multiple Sclerosis (MS) in the Danish Multiple Sclerosis Society.”
  In D. Berceli (Ed.)\, “Shake it Off Naturally: Reduce your Stress\, Anx
 iety and Tension with ‘TRE™’”\, s. 102-120\, Charleston\, Create S
 pace Pub. 2015. I have worked with bodyorientated psychotherapy with psych
 iatric patients and with traumatized refugees. I have specialized in psych
 osomatics and the ability of bodyorientated psychotherapy to influence neu
 rodegenerationINFORMATION: Bogdan Pakocamobile : 5358 5358 1email : tre@tr
 e-polska.plwww.tre-polska.pl REGISTRATION &amp\; PAYMENT: Please send Yo
 ur request for the workshop by e-mail to: tre@tre-polska.pl Transfer down
  payment of 250 zł - that will secure place for You You will receive inv
 oice.Number of participants is limited. Investment: 1050 PLN (incl. VAT)
  Payment on account: TREVITA Bogdan PakocaSWIFT: BPKOPLPWPL 50 1020 555
 8 1111 1154 3700 0065 Deadline for applications: 16.10.2016
CATEGORIES:Intro Workshops / Recurring Classes / Online Events
LOCATION:Studio Sante\, ul. Jagielońska 55\, Warszawa\,  ul. Jagielońska 
 55\, Warszawa\, 03-301\, Poland
GEO:52.2703503;21.016071900000043
X-APPLE-STRUCTURED-LOCATION;VALUE=URI;X-ADDRESS= ul. Jagielońska 55\, Wars
 zawa\, 03-301\, Poland;X-APPLE-RADIUS=100;X-TITLE=Studio Sante\, ul. Jagie
 lońska 55\, Warszawa:geo:52.2703503,21.016071900000043
END:VEVENT
BEGIN:VTIMEZONE
TZID:America/Los_Angeles
X-LIC-LOCATION:America/Los_Angeles
BEGIN:STANDARD
DTSTART:20161106T010000
TZOFFSETFROM:-0700
TZOFFSETTO:-0800
TZNAME:PST
END:STANDARD
END:VTIMEZONE
END:VCALENDAR