BEGIN:VCALENDAR
VERSION:2.0
PRODID:-//wp-events-plugin.com//7.2.3.1//EN
TZID:America/Los_Angeles
X-WR-TIMEZONE:America/Los_Angeles
BEGIN:VEVENT
UID:5831@treglobal.org
DTSTART;TZID=America/Chicago:20230413T101500
DTEND;TZID=America/Chicago:20230413T113000
DTSTAMP:20230412T225156Z
URL:https://treglobal.org/event/community-shake-st-anthony-library-mn-and-
 on-zoom-1015-1130-am/
SUMMARY:Community Shake - St. Anthony Library\, MN! 10:15 - 11:30 am
DESCRIPTION:Join us for a community shake  in person at The St. Anthony Vi
 llage Library (hclib.org)\n\nThursday\, April 13th at St. Anthony Library 
 10:15 - 11:30 am\n\nAll participants will need to complete waivers at\n\nw
 ww.belovemn.com/tre\n\nFor reminders:\n\nLocal: Text “TRE” to 1-844-52
 3-4112\nZoom only: Text “zoomtre” to 1-844-523-4112\n\nUpcoming group 
 tremor sessions with Caitlin (TRE trainee\, no zoom options)\n\nThursday A
 pr 6th at Walker Library 10:15 am\nSaturday Apr 8th at St Anthony Library 
 (Pentagon Dr) 10:15 am\nThursday Apr 13th also at St. Anthony Library 10:1
 5 am\nStay tuned for news about outdoor TRE with Jeanne in May!\n\n&nbsp\;
 \n\nIf you would like to receive the link to the session\, please text "Ap
 ril 13 link" to 1-844-523-4112\n\n&nbsp\;
ATTACH;FMTTYPE=image/jpeg:https://treglobal.org/wp-content/uploads/2023/03
 /TRE-IMAGE-.png
CATEGORIES:Intro Workshops / Recurring Classes / Online Events
LOCATION:St. Anthony Library\, 2941 Pentagon Dr. N.E\, St. Anthony Village\
 , MN\, 55413\, United States
X-APPLE-STRUCTURED-LOCATION;VALUE=URI;X-ADDRESS=2941 Pentagon Dr. N.E\, St.
  Anthony Village\, MN\, 55413\, United States;X-APPLE-RADIUS=100;X-TITLE=S
 t. Anthony Library:geo:0,0
END:VEVENT
BEGIN:VTIMEZONE
TZID:America/Chicago
X-LIC-LOCATION:America/Chicago
BEGIN:DAYLIGHT
DTSTART:20230312T030000
TZOFFSETFROM:-0600
TZOFFSETTO:-0500
TZNAME:CDT
END:DAYLIGHT
END:VTIMEZONE
END:VCALENDAR