BEGIN:VCALENDAR
VERSION:2.0
PRODID:-//wp-events-plugin.com//7.2.3.1//EN
TZID:America/Los_Angeles
X-WR-TIMEZONE:America/Los_Angeles
BEGIN:VEVENT
UID:5833@treglobal.org
DTSTART;TZID=America/Chicago:20230406T101500
DTEND;TZID=America/Chicago:20230406T113000
DTSTAMP:20230405T153415Z
URL:https://treglobal.org/event/community-shake-at-walker-library/
SUMMARY:Community Shake at Walker Library
DESCRIPTION:Join us for a community shake  in person at Walker Library (hc
 lib.org)\n\nFacilitated by Caitlin\, TRE Provider trainee.\n\nFree parking
 \n\nThursday\, April 6th  10:15 - 11:30 am\n\nAll participants will need 
 to complete waivers at\n\nwww.belovemn.com/tre\n\nFor reminders:\n\nLocal:
  Text “TRE” to 1-844-523-4112\nZoom only: Text “zoomtre” to 1-844-
 523-4112\n\nUpcoming group tremor sessions with Caitlin (TRE trainee\, no 
 zoom options)\n\nSaturday Apr 8th at St Anthony Library (Pentagon Dr) 10:1
 5 am\nThursday Apr 13th also at St. Anthony Library 10:15 am\nStay tuned f
 or news about outdoor TRE with Jeanne in May!
ATTACH;FMTTYPE=image/jpeg:https://treglobal.org/wp-content/uploads/2023/04
 /TRE-IMAGE-.png
CATEGORIES:Intro Workshops / Recurring Classes / Online Events
LOCATION:Walker Library\, 2880 Hennepin Ave\, Minneapolis\, MN\, 55408\, Un
 ited States
X-APPLE-STRUCTURED-LOCATION;VALUE=URI;X-ADDRESS=2880 Hennepin Ave\, Minneap
 olis\, MN\, 55408\, United States;X-APPLE-RADIUS=100;X-TITLE=Walker Librar
 y:geo:0,0
END:VEVENT
BEGIN:VTIMEZONE
TZID:America/Chicago
X-LIC-LOCATION:America/Chicago
BEGIN:DAYLIGHT
DTSTART:20230312T030000
TZOFFSETFROM:-0600
TZOFFSETTO:-0500
TZNAME:CDT
END:DAYLIGHT
END:VTIMEZONE
END:VCALENDAR