BEGIN:VCALENDAR
VERSION:2.0
PRODID:-//wp-events-plugin.com//7.2.3.1//EN
TZID:America/Los_Angeles
X-WR-TIMEZONE:America/Los_Angeles
BEGIN:VEVENT
UID:5834@treglobal.org
DTSTART;TZID=America/Chicago:20230408T101500
DTEND;TZID=America/Chicago:20230408T113000
DTSTAMP:20230405T153716Z
URL:https://treglobal.org/event/community-shake-at-st-anthony-library-minn
 esota/
SUMMARY:Community Shake at St. Anthony Library Minnesota!
DESCRIPTION:Join us for a community shake in person at St. Anthony Village 
 Library (hclib.org)\n\nFacilitated by Caitlin\, TRE Provider trainee.\n\nF
 ree parking\n\nSaturday Apr 8th at St Anthony Library (Pentagon Dr) 10:15 
 am\n\nAll participants will need to complete waivers at\n\nwww.belovemn.co
 m/tre\n\nFor reminders:\n\nLocal: Text “TRE” to 1-844-523-4112\nZoom o
 nly: Text “zoomtre” to 1-844-523-4112\n\nUpcoming group tremor session
 s with Caitlin (TRE trainee\, no zoom options)Thursday Apr 13th also at St
 . Anthony Library 10:15 am\nStay tuned for news about outdoor TRE with Jea
 nne in May!
CATEGORIES:Intro Workshops / Recurring Classes / Online Events
LOCATION:St. Anthony Library\, 2941 Pentagon Dr. N.E\, St. Anthony Village\
 , MN\, 55413\, United States
X-APPLE-STRUCTURED-LOCATION;VALUE=URI;X-ADDRESS=2941 Pentagon Dr. N.E\, St.
  Anthony Village\, MN\, 55413\, United States;X-APPLE-RADIUS=100;X-TITLE=S
 t. Anthony Library:geo:0,0
END:VEVENT
BEGIN:VTIMEZONE
TZID:America/Chicago
X-LIC-LOCATION:America/Chicago
BEGIN:DAYLIGHT
DTSTART:20230312T030000
TZOFFSETFROM:-0600
TZOFFSETTO:-0500
TZNAME:CDT
END:DAYLIGHT
END:VTIMEZONE
END:VCALENDAR