BEGIN:VCALENDAR
VERSION:2.0
PRODID:-//wp-events-plugin.com//7.2.3.1//EN
TZID:America/Los_Angeles
X-WR-TIMEZONE:America/Los_Angeles
BEGIN:VEVENT
UID:1567@treglobal.org
DTSTART;TZID=America/Los_Angeles:20160618T090000
DTEND;TZID=America/Los_Angeles:20160620T170000
DTSTAMP:20160309T160623Z
URL:https://treglobal.org/event/charlottetown-prince-edward-islandglobal-c
 ertification-training-module-1-june-181920-module-2-october-212223-2016/
SUMMARY:Charlottetown Prince Edward Island\,Global Certification Training M
 odule 1 June 18\,19\, 20 &amp\; Module 2 October 14\, 15\, 16\, 2016
DESCRIPTION:Module 1 -   550$ +GST Saturday   June 18\, 2015 9am - 5pm
 Sunday     June 19\, 2016    9am- 5pmMonday   June 20\, 2016   9
 am - 5pmModule 1 is open to the general public and can be attended for 1\,
  2 or all 3 days. One day cost is 190.00 + GSTCost:  Special Early Bird P
 ricing for all 3 days: $500.00 (+GST) Available until May 24\, 2016  Mod
 ule 2 - $550 (+GST) Friday October 14\, 2016Saturday October 15\, 2016Su
 nday October 16\, 2016(Module 2 is not open to the general public\, is onl
 y for trainees enrolled in the certification process) **All prices above 
 are in Canadian funds and are exclusive of tax** Please note: Additional 
 supervision sessions required for certification.  For more information pl
 ease see link to North American Certification Requirements below or contac
 t organizers. Description:   Those certified will be called “Certifie
 d TRE Providers” and will have the competency needed to teach both indiv
 iduals and groups. The training introduces the anatomy\, neurology and ph
 ysiology of stress and trauma as it relates to TRE and the tremoring proce
 ss.  You will learn containment\, grounding and energizing strategies as 
 well as how to identify the need for and teach self-regulation.  This is 
 an experiential training with a strong focus one’s personal tremoring ex
 perience.Certification Trainer :  Joan McDonald\, RSW\, TRE Certification
  Trainer - Joan Mc Donald\, Registered Social Worker\, Certification Train
 er for Canada\, Thailand and Nepal. Joan recently was one of two trainers 
 with TRE Philippines Humanitarian project. She taught TRE in Myanmar and 
 has established a Global Certification Training program in Thailand.  She
  is presently establishing a sustainable TRE post disaster program in Nepa
 l.Certification Trainer Trainee: Sherri Barrett\, BA\, is a Certified TRE 
 Provider and Certification Trainer Trainee.  Sherri is passionate about T
 RE\, running weekly classes and providing individual sessions.  Sherri ha
 s extensive experience working with Aboriginal communities in social and e
 mployment development.Register and more information contact:Sherri Barrett
  by email at  sherripbarrett@gmail.com         Joan McDonald by e
 mail at inverlie@gmail.com
CATEGORIES:Certification Trainings
LOCATION: Health Within Holistic Centre \, 500 Queen St\, \, Charlottetown\
 , \, Prince Edward Island  \, C1A 8K9\, Canada
GEO:46.25185010000001;-63.14210889999998
X-APPLE-STRUCTURED-LOCATION;VALUE=URI;X-ADDRESS=500 Queen St\, \, Charlotte
 town\, \, Prince Edward Island  \, C1A 8K9\, Canada;X-APPLE-RADIUS=100;X-T
 ITLE= Health Within Holistic Centre :geo:46.25185010000001,-63.14210889999
 998
END:VEVENT
BEGIN:VTIMEZONE
TZID:America/Los_Angeles
X-LIC-LOCATION:America/Los_Angeles
BEGIN:DAYLIGHT
DTSTART:20160313T030000
TZOFFSETFROM:-0800
TZOFFSETTO:-0700
TZNAME:PDT
END:DAYLIGHT
END:VTIMEZONE
END:VCALENDAR