BEGIN:VCALENDAR
VERSION:2.0
PRODID:-//wp-events-plugin.com//7.2.3.1//EN
TZID:America/Los_Angeles
X-WR-TIMEZONE:America/Los_Angeles
BEGIN:VEVENT
UID:6059@treglobal.org
DTSTART;TZID=America/Lima:20241011T093000
DTEND;TZID=America/Lima:20250817T180000
DTSTAMP:20240522T191415Z
URL:https://treglobal.org/event/certificacion-en-espanol-2024-chile/
SUMMARY:Certificación en español 2024 PERÚ
DESCRIPTION:2024 - 2025 Formación Semipresencial\, en Perú​\n​\nReali
 zaremos 2 módulos en formato presencial\, en Lima\, Perú y 3 en formato 
 online sincrónico.\n​\nPuedes descargar el programa \, aquí.\n​\nDud
 as a beatriz@casafen.cl\n\n&nbsp\;\n\n&nbsp\;
CATEGORIES:Certification Trainings,Online TRE® Certification Trainings
LOCATION:Perú\, Miraflores\, Lima\, Peru
X-APPLE-STRUCTURED-LOCATION;VALUE=URI;X-ADDRESS=Miraflores\, Lima\, Peru;X-
 APPLE-RADIUS=100;X-TITLE=Perú:geo:0,0
END:VEVENT
BEGIN:VTIMEZONE
TZID:America/Lima
X-LIC-LOCATION:America/Lima
BEGIN:STANDARD
DTSTART:20231012T093000
TZOFFSETFROM:-0500
TZOFFSETTO:-0500
TZNAME:-05
END:STANDARD
END:VTIMEZONE
END:VCALENDAR