BEGIN:VCALENDAR
VERSION:2.0
PRODID:-//wp-events-plugin.com//7.2.3.1//EN
TZID:America/Los_Angeles
X-WR-TIMEZONE:America/Los_Angeles
BEGIN:VEVENT
UID:6058@treglobal.org
DTSTART;TZID=America/Santiago:20240301T000000
DTEND;TZID=America/Santiago:20241207T000000
DTSTAMP:20240522T184641Z
URL:https://treglobal.org/event/certificacion-en-espanol-2/
SUMMARY:Certificación en español 2024 Chile
DESCRIPTION:2024 -Semipresencial\, en Chile​\n​\nRealizaremos 3 módul
 os en formato presencial\, en Santiago de Chile y 2 en formato online sinc
 rónico.\n​\nPuedes descargar el programa y ver un video explicativo\, a
 quí.\n​
CATEGORIES:Certification Trainings,Online TRE® Certification Trainings
LOCATION:Santiago de Chile\, Pedro Torres 1194\, Nuñoa. En CasaFen.\, Sant
 iago\, Region Metropolitana\, 7500000\, Chile
X-APPLE-STRUCTURED-LOCATION;VALUE=URI;X-ADDRESS=Pedro Torres 1194\, Nuñoa.
  En CasaFen.\, Santiago\, Region Metropolitana\, 7500000\, Chile;X-APPLE-R
 ADIUS=100;X-TITLE=Santiago de Chile:geo:0,0
END:VEVENT
BEGIN:VTIMEZONE
TZID:America/Santiago
X-LIC-LOCATION:America/Santiago
BEGIN:DAYLIGHT
DTSTART:20230903T010000
TZOFFSETFROM:-0400
TZOFFSETTO:-0300
TZNAME:-03
END:DAYLIGHT
BEGIN:STANDARD
DTSTART:20240406T230000
TZOFFSETFROM:-0300
TZOFFSETTO:-0400
TZNAME:-04
END:STANDARD
BEGIN:DAYLIGHT
DTSTART:20240908T010000
TZOFFSETFROM:-0400
TZOFFSETTO:-0300
TZNAME:-03
END:DAYLIGHT
END:VTIMEZONE
END:VCALENDAR