BEGIN:VCALENDAR
VERSION:2.0
PRODID:-//wp-events-plugin.com//7.2.3.1//EN
TZID:America/Los_Angeles
X-WR-TIMEZONE:America/Los_Angeles
BEGIN:VEVENT
UID:1340@treglobal.org
DTSTART;TZID=America/Los_Angeles:20151121T100000
DTEND;TZID=America/Los_Angeles:20151122T140000
DTSTAMP:20150916T090945Z
URL:https://treglobal.org/event/castricum-the-netherlands-tre-intensive-op
 en-to-general-public/
SUMMARY:Castricum\, The Netherlands\, TRE Intensive\, (open to general publ
 ic)
DESCRIPTION:TRE is “You healing You” ofwel het zelfgenezend vermogen va
 n ons lichaam. Deze intensives bieden de gelegenheid om je eigen TRE proc
 es te verdiepen als je al een tijdje met TRE bezig bent. Maar ook als het 
 je eerste keer is kun je meedoen\, want op zaterdagochtend is er de mogeli
 jkheid met de introductieworkshop te beginnen.Gedurende de TRE intensive 
 van 2 dagen zul je ten minste 2 keer per dag TRE doen. Tijdens de lessen l
 eer je steeds meer je eigen TRE sessies te reguleren. De lessen worden ond
 ersteund door informatie over het menselijk lichaam en aanvullende theorie
  en technieken die de praktijk van TRE kunnen verdiepen.TRE Intensive prog
 ramma (ook 1 dag te volgen)Zaterdag10:00    Introductie tot TRE met Nie
 nja11:15    Pauze11:30    TRE sessie 112:30    Lunchpauze (zelf l
 unch meenemen)13:30    TRE sessie 214.30    EindeZondag10:00    V
 erdiepende theoretische/praktische informatie11:00    TRE sessie 312:00
     Pauze12.30    TRE sessie 414:00    EindeDe intensives worden 
 gegeven bij Yoga2Go in Castricum en begeleid door Lucie van Leeuwen en
  Nienja Brouwer.Data 201520/21 Novemberen/of 19/20 December 2015Neem con
 tact met ons op als je interesse hebt deel te nemen.Investering120 euro p
 er weekend of 75 euro per dag
CATEGORIES:Intro Workshops / Recurring Classes / Online Events
LOCATION:Yoga2Go\, Pernestraat 31\, Castricum\, 1901AV\, Netherlands
GEO:52.548283;4.66149089999999
X-APPLE-STRUCTURED-LOCATION;VALUE=URI;X-ADDRESS=Pernestraat 31\, Castricum\
 , 1901AV\, Netherlands;X-APPLE-RADIUS=100;X-TITLE=Yoga2Go:geo:52.548283,4.
 66149089999999
END:VEVENT
BEGIN:VTIMEZONE
TZID:America/Los_Angeles
X-LIC-LOCATION:America/Los_Angeles
BEGIN:STANDARD
DTSTART:20151101T010000
TZOFFSETFROM:-0700
TZOFFSETTO:-0800
TZNAME:PST
END:STANDARD
END:VTIMEZONE
END:VCALENDAR