BEGIN:VCALENDAR
VERSION:2.0
PRODID:-//wp-events-plugin.com//7.2.3.1//EN
TZID:America/Los_Angeles
X-WR-TIMEZONE:America/Los_Angeles
BEGIN:VEVENT
UID:1484@treglobal.org
DTSTART;TZID=America/Los_Angeles:20160203T180000
DTEND;TZID=America/Los_Angeles:20160203T200000
DTSTAMP:20160117T154630Z
URL:https://treglobal.org/event/cape-town-south-africa-tre-introductory-wo
 rkshop-open-to-the-general-public/
SUMMARY:Cape Town\, South Africa. TRE™ Introductory Workshop. (open to th
 e general public)
DESCRIPTION:TRE™ INTRODUCTORY WORKSHOP (OPEN TO THE GENERAL PUBLIC)You wi
 ll be introduced to the background and basic theoretical principles of TR
 E™. This will be followed by a short experience of the TRE™  process.
  When: Wednesday\, February 2\, 2016: 06.00pm to 08.00pmFacilitated by: 
  TRE™ Trainer Ingrid RegenassCost: R 100.00 payable in advance to secu
 re your placeNumbers:  are limited to 8 so please book to to secure your 
 placeWEEKLY TRE™ OPEN GROUP CLASSES:Once you have attended a TRE™ In
 troductory Workshop you may continue by attending the weekly open group cl
 asses held every Thursday evening in the Integral Health Studio from 06.00
 pm to 07.30pm. The cost is R1\,000.00 for 6 consecutive classes - payable 
 in advance. After this you may continue at a reduced rate of R50.00 per cl
 ass. Booking essential.Enquiries and Bookings:  Email Ingrid at admin@int
 egralhealth.co.za
CATEGORIES:Intro Workshops / Recurring Classes / Online Events
LOCATION:INTEGRAL HEALTH STUDIO\, COLYN ROAD\, CONSTANTIA\, CAPE TOWN\, WES
 TERN CAPE\, 7806\, WESTERN CAPE\, South Africa
GEO:-34.051279;18.44165190000001
X-APPLE-STRUCTURED-LOCATION;VALUE=URI;X-ADDRESS=COLYN ROAD\, CONSTANTIA\, C
 APE TOWN\, WESTERN CAPE\, 7806\, WESTERN CAPE\, South Africa;X-APPLE-RADIU
 S=100;X-TITLE=INTEGRAL HEALTH STUDIO:geo:-34.051279,18.44165190000001
END:VEVENT
BEGIN:VTIMEZONE
TZID:America/Los_Angeles
X-LIC-LOCATION:America/Los_Angeles
BEGIN:STANDARD
DTSTART:20151101T010000
TZOFFSETFROM:-0700
TZOFFSETTO:-0800
TZNAME:PST
END:STANDARD
END:VTIMEZONE
END:VCALENDAR