BEGIN:VCALENDAR
VERSION:2.0
PRODID:-//wp-events-plugin.com//7.2.3.1//EN
TZID:America/Los_Angeles
X-WR-TIMEZONE:America/Los_Angeles
BEGIN:VEVENT
UID:1486@treglobal.org
DTSTART;TZID=America/Los_Angeles:20160406T180000
DTEND;TZID=America/Los_Angeles:20160406T200000
DTSTAMP:20160117T155223Z
URL:https://treglobal.org/event/cape-town-south-africa-tre-introductory-wo
 rkshop-open-to-the-general-public-3/
SUMMARY:Cape Town\, South Africa. TRE™ Introductory Workshop (open to the
  general public)
DESCRIPTION:TRE™ INTRODUCTORY WORKSHOP (OPEN TO THE GENERAL PUBLIC)You wi
 ll be introduced to the background and basic theoretical principles of TR
 E™. This will be followed by a short experience of the TRE™  proces
 s. When: Wednesday\, April 6\, 2016: 06.00pm to 08.00pmFacilitated by: 
  TRE™ Trainer Ingrid RegenassCost: R 100.00 payable in advance to sec
 ure your placeNumbers:  are limited to 8 so please book to to secure you
 r placeWEEKLY TRE™ OPEN GROUP CLASSES:Once you have attended a TRE™ 
 Introductory Workshop you may continue by attending the weekly open group 
 classes held every Thursday evening in the Integral Health Studio from 06.
 00pm to 07.30pm. The cost is R1\,000.00 for 6 consecutive classes - payabl
 e in advance. After this you may continue at a reduced rate of R50.00 per 
 class. Booking essential.Enquiries and Bookings:  Email Ingrid at admin@
 integralhealth.co.za 
CATEGORIES:Intro Workshops / Recurring Classes / Online Events
LOCATION:INTEGRAL HEALTH STUDIO\, COLYN ROAD\, CONSTANTIA\, CAPE TOWN\, WES
 TERN CAPE\, 7806\, WESTERN CAPE\, South Africa
GEO:-34.051279;18.44165190000001
X-APPLE-STRUCTURED-LOCATION;VALUE=URI;X-ADDRESS=COLYN ROAD\, CONSTANTIA\, C
 APE TOWN\, WESTERN CAPE\, 7806\, WESTERN CAPE\, South Africa;X-APPLE-RADIU
 S=100;X-TITLE=INTEGRAL HEALTH STUDIO:geo:-34.051279,18.44165190000001
END:VEVENT
BEGIN:VTIMEZONE
TZID:America/Los_Angeles
X-LIC-LOCATION:America/Los_Angeles
BEGIN:DAYLIGHT
DTSTART:20160313T030000
TZOFFSETFROM:-0800
TZOFFSETTO:-0700
TZNAME:PDT
END:DAYLIGHT
END:VTIMEZONE
END:VCALENDAR