BEGIN:VCALENDAR
VERSION:2.0
PRODID:-//wp-events-plugin.com//7.2.3.1//EN
TZID:America/Los_Angeles
X-WR-TIMEZONE:America/Los_Angeles
BEGIN:VEVENT
UID:1588@treglobal.org
DTSTART;TZID=America/Los_Angeles:20160408T083000
DTEND;TZID=America/Los_Angeles:20160410T163000
DTSTAMP:20160328T171008Z
URL:https://treglobal.org/event/cape-town-south-africa-tre-certification-t
 raining-module-1-certification-trainer-ingrid-regenass/
SUMMARY:CAPE TOWN\, SOUTH AFRICA. TRE™ CERTIFICATION TRAINING - MODULE 1 
 - Certification Trainer: Ingrid Regenass
DESCRIPTION:MODULE 1:             8\, 9\, 10th APRIL 2016 (8.30
 am – 4.30pm each day) arrive earlier if you want to have tea/coffee.MODU
 LE 2:                6\, 7\,  8th AUGUST 2016 (8.30 am – 
 4.30pm) arrive earlier if you want to have tea/coffee.MODULE 1: 3-DAY TRE
 ® TRAINING/WORKSHOP (8th\, 9th and 10th APRIL 2016)  This 3-day TRE® 
 training/workshop is for people wanting to learn more about TRE® for thei
 r personal process OR for people wanting to continue with the TRE® Global
  Certification Training Program\, which has further training requirements.
  Module 1 is a prerequisite to continuing with the Certification Training.
  PLEASE NOTE: This initial 3-day training/workshop does NOT qualify you t
 o take other people through the TRE® process. You will need to first cert
 ify as a TRE® provider by applying and completing the rest of the certifi
 cation training requirements in order to teach others the TRE® process. 
 FEES MODULE 1:  R 5\,000.00 on booking your place. There are additional
  fees for the supervision component of the training which follows the 3-da
 y training.Module 2 is only for people doing the Global Certification Trai
 ning Program APPLICATION PROCEDURE: Email Ingrid on admin@integralhealth
 .co.zaComplete application form – email it back to IngridBook pre-course
  interview with Ingrid (skype or face-to-face): Cost: R 400.00 (One hour s
 ession for us both to determine if this is the right time for you to do th
 e training/workshop). Outline of the workshop will be discussed.An invoice
  will be emailed to youPay fees/depositEmail proof of paymentFEES INCLUDE 
 REFRESHMENTS AND A LIGHT LUNCH ON TRAINING DAYS.NUMBERS ARE LIMITED SO IT 
 IS ADVISABLE TO BOOK EARLY.Ingrid Regenass (TRE™ Provider and TRE™ C
 ertification Trainer)Ingrid Regenass is an Integral Health Practitioner\, 
 TRE™ Certification Trainer\, and Mindfulness Teacher (MBSR) based in Cap
 e Town. She has qualifications in nursing\, exercise and fitness\, clinica
 l nutrition\, counseling and coaching and has worked the field of health p
 romotion and wellness for over 25 years. Over the years her work has evolv
 ed to include a variety of modalities\, which she draws from to empower pe
 ople to journey towards optimal health and wholeness.
CATEGORIES:Certification Trainings
LOCATION:INTEGRAL HEALTH STUDIO\, COLYN ROAD\, CONSTANTIA\, CAPE TOWN\, WES
 TERN CAPE\, 7806\, WESTERN CAPE\, South Africa
GEO:-34.051279;18.44165190000001
X-APPLE-STRUCTURED-LOCATION;VALUE=URI;X-ADDRESS=COLYN ROAD\, CONSTANTIA\, C
 APE TOWN\, WESTERN CAPE\, 7806\, WESTERN CAPE\, South Africa;X-APPLE-RADIU
 S=100;X-TITLE=INTEGRAL HEALTH STUDIO:geo:-34.051279,18.44165190000001
END:VEVENT
BEGIN:VTIMEZONE
TZID:America/Los_Angeles
X-LIC-LOCATION:America/Los_Angeles
BEGIN:DAYLIGHT
DTSTART:20160313T030000
TZOFFSETFROM:-0800
TZOFFSETTO:-0700
TZNAME:PDT
END:DAYLIGHT
END:VTIMEZONE
END:VCALENDAR