BEGIN:VCALENDAR
VERSION:2.0
PRODID:-//wp-events-plugin.com//7.2.3.1//EN
TZID:America/Los_Angeles
X-WR-TIMEZONE:America/Los_Angeles
BEGIN:VEVENT
UID:1543@treglobal.org
DTSTART;TZID=America/Los_Angeles:20160227T100000
DTEND;TZID=America/Los_Angeles:20160402T110000
DTSTAMP:20160216T152702Z
URL:https://treglobal.org/event/burlington-vermont-tre-5-week-introductory
 -series/
SUMMARY:Burlington\, Vermont: TRE™ 5 Week Introductory Series 
DESCRIPTION:**What:** TRE™ stands for Tension and Trauma Releasing Exerci
 ses. TRE™ is comprised of seven exercises that are designed to help the 
 body release tension. TRE™ is for anyone who could benefit from less str
 ess.**When:** 5 Saturdays starting February 27th 10:00AM-11:00 AM (No grou
 p on 3/19.)**Where:** Turnstone Associates 1 Mill Street\, Suite 312 Burli
 ngton (Chace Mill.)**Cost:** Self-select sliding scale: $50-$125 for all f
 ive groups or $10-$25 per group.**What to Bring:** Wear loose fitting clot
 hes and a yoga mat or pad.A commitment to attend all five groups is reques
 ted.For more info about TRE™: www.traumaprevention.com.Please contact me
  if you're interested: jay@jaygleasonvt.com or 802-578-0741  Thanks\,Jay
CATEGORIES:Certification Trainings
LOCATION:The Chace Mill\, 1 Mills St\, Ste 312\, Burlington\, Vermont\, 054
 01\, United States
GEO:42.2950794;-85.56892679999999
X-APPLE-STRUCTURED-LOCATION;VALUE=URI;X-ADDRESS=1 Mills St\, Ste 312\, Burl
 ington\, Vermont\, 05401\, United States;X-APPLE-RADIUS=100;X-TITLE=The Ch
 ace Mill:geo:42.2950794,-85.56892679999999
END:VEVENT
BEGIN:VTIMEZONE
TZID:America/Los_Angeles
X-LIC-LOCATION:America/Los_Angeles
BEGIN:STANDARD
DTSTART:20151101T010000
TZOFFSETFROM:-0700
TZOFFSETTO:-0800
TZNAME:PST
END:STANDARD
BEGIN:DAYLIGHT
DTSTART:20160313T030000
TZOFFSETFROM:-0800
TZOFFSETTO:-0700
TZNAME:PDT
END:DAYLIGHT
END:VTIMEZONE
END:VCALENDAR