BEGIN:VCALENDAR
VERSION:2.0
PRODID:-//wp-events-plugin.com//7.2.3.1//EN
TZID:America/Los_Angeles
X-WR-TIMEZONE:America/Los_Angeles
BEGIN:VEVENT
UID:1346@treglobal.org
DTSTART;TZID=America/Los_Angeles:20151101T130000
DTEND;TZID=America/Los_Angeles:20151101T143000
DTSTAMP:20150924T213050Z
URL:https://treglobal.org/event/buellton-tre-introductory-class-series/
SUMMARY:BUELLTON ~ TRE™ Introductory Class Series!
DESCRIPTION:Join us for this TRE™ Introductory Class Series!(3) Consecut
 ive Sundays in November\, 2015Sunday \, November 1\, 2015\, 1:00 – 2:30 
 pm Sunday \, November 8\, 2015\, 1:00 – 2:30 pmSunday \, November 15\, 
 2015\, 1:00 – 2:30 pm This Series of classes is perfect for those who a
 re brand new to TRE™ as well as those who are already familiar with the 
 practice and would like to take their practice to the next level.If you th
 rive in groups and want support while establishing a regular practice then
  this is the perfect opportunity for you.If interested please call me\, Da
 phne\, at (805) 259-7462  e-mail me at Daphne@Sollievo.co Register online
  at:www.trecentralcoast.com/classesWhile on the website make sure to sign-
 up to our mailing list so we can keep you informed of future class offerin
 gs in the Central Coast.I am looking forward to connecting with you.
CATEGORIES:Intro Workshops / Recurring Classes / Online Events
LOCATION:All Sport Fitness Center - Group X Room\, 85 Industrual Way\, Bldg
  J\, Buellton\, CA\, 93427\, United States
GEO:34.6118347;-120.20122129999999
X-APPLE-STRUCTURED-LOCATION;VALUE=URI;X-ADDRESS=85 Industrual Way\, Bldg J\
 , Buellton\, CA\, 93427\, United States;X-APPLE-RADIUS=100;X-TITLE=All Spo
 rt Fitness Center - Group X Room:geo:34.6118347,-120.20122129999999
END:VEVENT
BEGIN:VTIMEZONE
TZID:America/Los_Angeles
X-LIC-LOCATION:America/Los_Angeles
BEGIN:STANDARD
DTSTART:20151101T010000
TZOFFSETFROM:-0700
TZOFFSETTO:-0800
TZNAME:PST
END:STANDARD
END:VTIMEZONE
END:VCALENDAR