BEGIN:VCALENDAR
VERSION:2.0
PRODID:-//wp-events-plugin.com//7.2.3.1//EN
TZID:America/Los_Angeles
X-WR-TIMEZONE:America/Los_Angeles
BEGIN:VEVENT
UID:1277@treglobal.org
DTSTART;TZID=America/Los_Angeles:20150409T090000
DTEND;TZID=America/Los_Angeles:20150609T170000
DTSTAMP:20150728T003529Z
URL:https://treglobal.org/event/boulder-colorado-tre-certification-trainin
 g-module-1-3/
SUMMARY:Boulder\, Colorado - TRE Certification Training - Module 1
DESCRIPTION:module 1Friday\, September 4th-6th: 9:00 AM to 05:00 PMCost is 
 $499 with a 10% discount for attendees who enroll before August 4th.For mo
 re information contact PaulMichaelDarby@aol.com or call 303-906-6467
LOCATION:Denver\, Colorado\, 639 E. 19th Avenue\, Denver\, Colorado\, Unite
 d States
GEO:39.7463823;-104.97935410000002
X-APPLE-STRUCTURED-LOCATION;VALUE=URI;X-ADDRESS=639 E. 19th Avenue\, Denver
 \, Colorado\, United States;X-APPLE-RADIUS=100;X-TITLE=Denver\, Colorado:g
 eo:39.7463823,-104.97935410000002
END:VEVENT
BEGIN:VTIMEZONE
TZID:America/Los_Angeles
X-LIC-LOCATION:America/Los_Angeles
BEGIN:DAYLIGHT
DTSTART:20150308T030000
TZOFFSETFROM:-0800
TZOFFSETTO:-0700
TZNAME:PDT
END:DAYLIGHT
END:VTIMEZONE
END:VCALENDAR