BEGIN:VCALENDAR
VERSION:2.0
PRODID:-//wp-events-plugin.com//7.2.3.1//EN
TZID:America/Los_Angeles
X-WR-TIMEZONE:America/Los_Angeles
BEGIN:VEVENT
UID:5812@treglobal.org
DTSTART;TZID=Europe/London:20230701T100000
DTEND;TZID=Europe/London:20230702T180000
DTSTAMP:20230525T100942Z
URL:https://treglobal.org/event/body-reading-in-tre-2-day-workshop-with-ch
 eda-mikic-tre-centre/
SUMMARY:Body Reading in TRE [2 Day Workshop] with Cheda Mikic\, TRE Centre 
 (London &amp\; Online)
DESCRIPTION:This training has been created by request from TRE Providers! 
  The weekend will be very practical and experiential and it will cover som
 e of the theory and neuroscience of touch and why the touch and connection
  are so fundamental in self-regulation and co-regulation in humans.\nSee f
 ull information and booking here: www.trecentre.com/calendar\nOur focus wi
 ll be working with spontaneous movements and tremors that express our uniq
 ue life story.\n\n\n 	Learn how to ‘SEE’ posture and human frame - Imp
 ortance of feet\, jaw\, eyes.\n 	Spine and it’s complexity\n 	Myofascial
  lines/meridians and how to see and read them through movement\n\nThe cour
 se will also cover:\n\n\n 	Identifying some birth and early traumas\n 	Ide
 ntifying emotions in the body\n 	Reading subtle movements of the body and 
 their meaning\n 	How to support the client\n 	How to support ourselves\n 	
 Interventions\n\nCost: £230 - Early Bird paid in full by May 30th 2023 £
 260 - Paid after May 30th 2023\nCost is the same whether joining online or
  in person.\nFor any questions\, email us at: contact@trecentre.com
CATEGORIES:TRE® Continuing Education / Specialty Training
LOCATION:London and Online\, London\, London\, United Kingdom
X-APPLE-STRUCTURED-LOCATION;VALUE=URI;X-ADDRESS=London\, London\, United Ki
 ngdom;X-APPLE-RADIUS=100;X-TITLE=London and Online:geo:0,0
END:VEVENT
BEGIN:VTIMEZONE
TZID:Europe/London
X-LIC-LOCATION:Europe/London
BEGIN:DAYLIGHT
DTSTART:20230326T020000
TZOFFSETFROM:+0000
TZOFFSETTO:+0100
TZNAME:BST
END:DAYLIGHT
END:VTIMEZONE
END:VCALENDAR