BEGIN:VCALENDAR
VERSION:2.0
PRODID:-//wp-events-plugin.com//7.2.3.1//EN
TZID:America/Los_Angeles
X-WR-TIMEZONE:America/Los_Angeles
BEGIN:VEVENT
UID:6061@treglobal.org
DTSTART;TZID=America/Los_Angeles:20240926T183000
DTEND;TZID=America/Los_Angeles:20240926T200000
DTSTAMP:20240528T165024Z
URL:https://treglobal.org/event/atelier-de-decouverte-du-tre/
SUMMARY:Atelier de découverte du TRE
DESCRIPTION:Cet atelier\, offert à tous et toutes les membres de la Coopé
 rative Alentour\, est une séance de découverte du T.R.E en petit groupe.
CATEGORIES:Intro Workshops / Recurring Classes / Online Events
LOCATION:Sherbrooke\, Coopérative Alentour 510\, rue Jean-Paul Perrault \,
  Sherbrooke\, Québec\, J1L 3A6\, Canada
X-APPLE-STRUCTURED-LOCATION;VALUE=URI;X-ADDRESS=Coopérative Alentour 510\,
  rue Jean-Paul Perrault \, Sherbrooke\, Québec\, J1L 3A6\, Canada;X-APPLE
 -RADIUS=100;X-TITLE=Sherbrooke:geo:0,0
END:VEVENT
BEGIN:VTIMEZONE
TZID:America/Los_Angeles
X-LIC-LOCATION:America/Los_Angeles
BEGIN:DAYLIGHT
DTSTART:20240310T030000
TZOFFSETFROM:-0800
TZOFFSETTO:-0700
TZNAME:PDT
END:DAYLIGHT
END:VTIMEZONE
END:VCALENDAR