BEGIN:VCALENDAR
VERSION:2.0
PRODID:-//wp-events-plugin.com//7.2.3.1//EN
TZID:America/Los_Angeles
X-WR-TIMEZONE:America/Los_Angeles
BEGIN:VEVENT
UID:1258@treglobal.org
DTSTART;TZID=America/Los_Angeles:20150719T100000
DTEND;TZID=America/Los_Angeles:20150719T123000
DTSTAMP:20150703T095532Z
URL:https://treglobal.org/event/amsterdam-the-netherlands-tre-introduction
 -workshop-open-to-general-public/
SUMMARY:Amsterdam\, The Netherlands\, TRE Introduction Workshop (open to ge
 neral public)
DESCRIPTION:Deze workshop is bedoelt je kennis te laten maken met de theori
 e en praktijk van de TRE\, waarmee je daarna gelijk thuis aan de slag kunt
 . Tijdens de workshop leer je eenvoudige oefeningen en krijg je uitleg ove
 r de achtergronden ervan. Er is gelegenheid om vragen te stellen en te ref
 lecteren op je eigen ervaringen. De workshop is voor alle leeftijden en de
  TRE oefeningen zijn toegankelijk voor iedereen. De workshop prijs is 40 e
 uro.Je kunt je opgeven voor onderstaande workshop data (hou de agenda in d
 e gaten voor eventuele data die erbij komen).Wanneer je zelf een groepje v
 an 5 – 7 mensen bij elkaar vraagt\, kunnen we daar een prive-workshop o
 p een alternatieve dag/tijd voor inplannen.19 juli - TRE introductie wor
 kshop\, 10:00 - 12:30u\, Inner World\, Domselaerstraat 42\, Amsterdam9 a
 ug - TRE introductie workshop\, 10:00 - 12:30u\, Inner World\, Domsel
 aerstraat 42\, Amsterdam22 aug - TRE introductie workshop\, 15:00 - 17
 :30u\, Inner World\, Domselaerstraat 42\, AmsterdamSchrijf je in voor mi
 jn nieuwsbrief om te horen wanneer de workshops plaatsvinden in Amsterdam
  en omstreken.Heb je interesse om deel te nemen of verdere vragen\, neem 
 contact met me op!www.nienjabrouwer.nl
CATEGORIES:Intro Workshops / Recurring Classes / Online Events
LOCATION:InnerWorld Yoga and More\, Domselaerstraat 42\, Amsterdam\, 1093MA
 \, Netherlands
GEO:52.3596122;4.926929299999983
X-APPLE-STRUCTURED-LOCATION;VALUE=URI;X-ADDRESS=Domselaerstraat 42\, Amster
 dam\, 1093MA\, Netherlands;X-APPLE-RADIUS=100;X-TITLE=InnerWorld Yoga and 
 More:geo:52.3596122,4.926929299999983
END:VEVENT
BEGIN:VTIMEZONE
TZID:America/Los_Angeles
X-LIC-LOCATION:America/Los_Angeles
BEGIN:DAYLIGHT
DTSTART:20150308T030000
TZOFFSETFROM:-0800
TZOFFSETTO:-0700
TZNAME:PDT
END:DAYLIGHT
END:VTIMEZONE
END:VCALENDAR