BEGIN:VCALENDAR
VERSION:2.0
PRODID:-//wp-events-plugin.com//7.2.3.1//EN
TZID:America/Los_Angeles
X-WR-TIMEZONE:America/Los_Angeles
BEGIN:VEVENT
UID:1297@treglobal.org
DTSTART;TZID=America/Los_Angeles:20150906T100000
DTEND;TZID=America/Los_Angeles:20150906T130000
DTSTAMP:20150814T101052Z
URL:https://treglobal.org/event/amsterdam-the-netherlands-tre-introduction
 -workshop-open-to-general-public-5/
SUMMARY:Amsterdam\, The Netherlands\, TRE Introduction Workshop (open to ge
 neral public)
DESCRIPTION:This workshop is designed to introduce you to the theory and pr
 actice of Tension Releasing Exercises (TRE) and to empower you to practice
  on your own. During the class we will do the simple exercises and discuss
  the theory behind them. We will also have time to address your questions 
 and concerns. This class is suitable for people of all ages and level of f
 itness as the TRE exercises can be modified to accommodate anybody’s nee
 ds. The price for the introduction workshop is 45 euros.You can participat
 e in an introduction workshop to TRE (in Dutch)\, schedule a private sess
 ion or find a group of at least 7 people to have the workshop in English.
 Because I just had maternity leave\, you can read my articles about TRE d
 uring pregnancy\, giving birth and afterwards…Please subscribe to my ne
 wsletter or contact me to be informed about my activities.www.nienjabro
 uwer.nl
CATEGORIES:Intro Workshops / Recurring Classes / Online Events
LOCATION:InnerWorld Yoga and More\, Domselaerstraat 42\, Amsterdam\, 1093MA
 \, North-Holland\, Netherlands
GEO:52.3596122;4.926929299999983
X-APPLE-STRUCTURED-LOCATION;VALUE=URI;X-ADDRESS=Domselaerstraat 42\, Amster
 dam\, 1093MA\, North-Holland\, Netherlands;X-APPLE-RADIUS=100;X-TITLE=Inne
 rWorld Yoga and More:geo:52.3596122,4.926929299999983
END:VEVENT
BEGIN:VTIMEZONE
TZID:America/Los_Angeles
X-LIC-LOCATION:America/Los_Angeles
BEGIN:DAYLIGHT
DTSTART:20150308T030000
TZOFFSETFROM:-0800
TZOFFSETTO:-0700
TZNAME:PDT
END:DAYLIGHT
END:VTIMEZONE
END:VCALENDAR