BEGIN:VCALENDAR
VERSION:2.0
PRODID:-//wp-events-plugin.com//7.2.3.1//EN
TZID:America/Los_Angeles
X-WR-TIMEZONE:America/Los_Angeles
BEGIN:VEVENT
UID:1260@treglobal.org
DTSTART;TZID=America/Los_Angeles:20150822T150000
DTEND;TZID=America/Los_Angeles:20150822T173000
DTSTAMP:20150703T100118Z
URL:https://treglobal.org/event/amsterdam-the-netherlands-tre-introduction
 -workshop-open-to-general-public-3/
SUMMARY:Amsterdam\, The Netherlands\, TRE Introduction Workshop (open to ge
 neral public)
DESCRIPTION:
CATEGORIES:Intro Workshops / Recurring Classes / Online Events
LOCATION:InnerWorld Yoga and More \, Domselaerstraat 42\, Amsterdam\, 1093M
 A\, Netherlands
GEO:52.3596122;4.926929299999983
X-APPLE-STRUCTURED-LOCATION;VALUE=URI;X-ADDRESS=Domselaerstraat 42\, Amster
 dam\, 1093MA\, Netherlands;X-APPLE-RADIUS=100;X-TITLE=InnerWorld Yoga and 
 More :geo:52.3596122,4.926929299999983
END:VEVENT
BEGIN:VTIMEZONE
TZID:America/Los_Angeles
X-LIC-LOCATION:America/Los_Angeles
BEGIN:DAYLIGHT
DTSTART:20150308T030000
TZOFFSETFROM:-0800
TZOFFSETTO:-0700
TZNAME:PDT
END:DAYLIGHT
END:VTIMEZONE
END:VCALENDAR