BEGIN:VCALENDAR
VERSION:2.0
PRODID:-//wp-events-plugin.com//7.2.3.1//EN
TZID:America/Los_Angeles
X-WR-TIMEZONE:America/Los_Angeles
BEGIN:VEVENT
UID:1259@treglobal.org
DTSTART;TZID=America/Los_Angeles:20150809T100000
DTEND;TZID=America/Los_Angeles:20150809T123000
DTSTAMP:20150703T095904Z
URL:https://treglobal.org/event/amsterdam-the-netherlands-tre-introduction
 -workshop-open-to-general-public-2/
SUMMARY:Amsterdam\, The Netherlands\, TRE Introduction Workshop (open to ge
 neral public)
DESCRIPTION:Deze workshop is bedoelt je kennis te laten maken met de theori
 e en praktijk van de TRE\, waarmee je daarna gelijk thuis aan de slag kunt
 . Tijdens de workshop leer je eenvoudige oefeningen en krijg je uitleg ove
 r de achtergronden ervan. Er is gelegenheid om vragen te stellen en te ref
 lecteren op je eigen ervaringen. De workshop is voor alle leeftijden en de
  TRE oefeningen zijn toegankelijk voor iedereen. De workshop prijs is 40 e
 uro.Je kunt je opgeven voor onderstaande workshop data (hou de agenda in d
 e gaten voor eventuele data die erbij komen).Wanneer je zelf een groepje v
 an 5 – 7 mensen bij elkaar vraagt\, kunnen we daar een prive-workshop o
 p een alternatieve dag/tijd voor inplannen.9 aug - TRE introductie works
 hop\, 10:00 - 12:30u\, Inner World\, Domselaerstraat 42\, Amsterdam22 
 aug - TRE introductie workshop\, 15:00 - 17:30u\, Inner World\, Domsel
 aerstraat 42\, AmsterdamSchrijf je in voor mijn nieuwsbrief om te horen 
 wanneer de workshops plaatsvinden in Amsterdam en omstreken.Heb je interes
 se om deel te nemen of verdere vragen\, neem contact met me op!www.nienj
 abrouwer.nl
CATEGORIES:Intro Workshops / Recurring Classes / Online Events
LOCATION:InnerWorld Yoga and More\, Domselaerstraat 42\, Amsterdam\, 1093MA
 \, Netherlands
GEO:52.3596122;4.926929299999983
X-APPLE-STRUCTURED-LOCATION;VALUE=URI;X-ADDRESS=Domselaerstraat 42\, Amster
 dam\, 1093MA\, Netherlands;X-APPLE-RADIUS=100;X-TITLE=InnerWorld Yoga and 
 More:geo:52.3596122,4.926929299999983
END:VEVENT
BEGIN:VTIMEZONE
TZID:America/Los_Angeles
X-LIC-LOCATION:America/Los_Angeles
BEGIN:DAYLIGHT
DTSTART:20150308T030000
TZOFFSETFROM:-0800
TZOFFSETTO:-0700
TZNAME:PDT
END:DAYLIGHT
END:VTIMEZONE
END:VCALENDAR