BEGIN:VCALENDAR
VERSION:2.0
PRODID:-//wp-events-plugin.com//7.2.3.1//EN
TZID:America/Los_Angeles
X-WR-TIMEZONE:America/Los_Angeles
BEGIN:VEVENT
UID:1636@treglobal.org
DTSTART;TZID=America/Los_Angeles:20160625T100000
DTEND;TZID=America/Los_Angeles:20160625T130000
DTSTAMP:20160502T202340Z
URL:https://treglobal.org/event/amsterdam-the-netherlands-tre-introduction
 -workshop-open-to-general-public-16/
SUMMARY:Amsterdam\, The Netherlands\, TRE Introduction Workshop (open to ge
 neral public)
DESCRIPTION:Deze workshop is bedoelt je kennis te laten maken met de theori
 e en praktijk van de TRE\, waarmee je daarna gelijk thuis aan de slag kunt
 . Tijdens de workshop leer je eenvoudige oefeningen en krijg je uitleg ove
 r de achtergronden ervan. Er is gelegenheid om vragen te stellen en te ref
 lecteren op je eigen ervaringen. De workshop is voor alle leeftijden en de
  TRE oefeningen zijn toegankelijk voor iedereen. De workshop prijs is 45 e
 uro.Watch the  video of Tension Releasing Exercises (TRE) on VIMEOWannee
 r je zelf een groepje van 7 – 9 mensen bij elkaar vraagt\, kunnen we da
 ar een prive-workshop op een alternatieve dag/tijd voor inplannen.De actue
 le data en tijden van de workshops staan in de Agenda.Schrijf je in voor 
 mijn nieuwsbrief om te horen wanneer de workshops plaatsvinden in Amsterd
 am en omstreken.Heb je interesse om deel te nemen of verdere vragen\, neem
  contact met me op!.www.nienjabrouwer.nl06-15493766
CATEGORIES:Intro Workshops / Recurring Classes / Online Events
LOCATION:ZensaZ yoga and more\, Fraunhoferstraat 14\, Amsterdam\, 1098LR\, 
 Netherlands
GEO:52.35068;4.936679400000003
X-APPLE-STRUCTURED-LOCATION;VALUE=URI;X-ADDRESS=Fraunhoferstraat 14\, Amste
 rdam\, 1098LR\, Netherlands;X-APPLE-RADIUS=100;X-TITLE=ZensaZ yoga and mor
 e:geo:52.35068,4.936679400000003
END:VEVENT
BEGIN:VTIMEZONE
TZID:America/Los_Angeles
X-LIC-LOCATION:America/Los_Angeles
BEGIN:DAYLIGHT
DTSTART:20160313T030000
TZOFFSETFROM:-0800
TZOFFSETTO:-0700
TZNAME:PDT
END:DAYLIGHT
END:VTIMEZONE
END:VCALENDAR