BEGIN:VCALENDAR
VERSION:2.0
PRODID:-//wp-events-plugin.com//7.2.3.1//EN
TZID:America/Los_Angeles
X-WR-TIMEZONE:America/Los_Angeles
BEGIN:VEVENT
UID:1303@treglobal.org
DTSTART;TZID=America/Los_Angeles:20151127T093000
DTEND;TZID=America/Los_Angeles:20151129T170000
DTSTAMP:20150821T102325Z
URL:https://treglobal.org/event/amsterdam-netherlands-module-i-certificati
 on-training-open-to-general-public-mii-in-march/
SUMMARY:Amsterdam\, Netherlands - Module I Certification Training (open to 
 general public) / MII in March
DESCRIPTION:This training is open to anyone.We are glad to invite you to th
 is training centered around self-healing and self-development with TRE. Th
 e weekend will be very practical and is open to anyone – with or without
  a therapeutic background.To continue with certification towards a TRE™ 
 Provider\, you will need to attend the Module II connected to the Module I
  you subscribe to. For certification requirements\, please read more here
 .GoalTo deepen your personal process and to help you experiencing the trem
 ors. Each morning and afternoon session you will be supported through the 
 exercises and tremors. We will explore the theory behind the model.Module 
 1 will include:Introduction to TREIntroduction and deepening of personal 
 tremoring experienceAnatomy\, neurology and physiology of stress and traum
 a as it relates to TREUnderstanding the tremor responseIntroduction to the
  Poly-vagal theoryDefense reactions as they relate to TREContainment and g
 rounding strategiesIntroduction to basic skills of working with individual
 s and groupsThe way we workThere will be plenty of time for discussion and
  sharing of your experiences. We will also guide you in developing your sk
 ills so you can begin to support other people through the exercises.More i
 nformation:Daan Timmers\, info@yogalab.nlMobile: +31 6 13 444 581Website:
  https://www.yogalab.nl/tension-releasing-exercises-treDates and times:Mo
 dule I(Open to general public)Friday\, Nov 27\, 9:30AM-5:00PM (Lunch break
  1pm-2:30pm)Saturday\, Nov 28\, 9:30AM-5:00PM (Lunch break 1pm-2:30pm)Sund
 ay\, Nov 29\, 9:30AM-5:00PM (Lunch break 1pm-2:30pm)Module II(you’ll nee
 d to be able to attend these dates if you wish to proceed to be certified 
 as TRE™ Provider – if you for some reason have no possibility to atten
 d these dates and wish to proceed with certification\, please contact us)
  Friday\, March 18\, 9:30AM-5:00PM (Lunch break 1pm-2:30pm)Saturday\, Mar
 ch 19\, 9:30AM-5:00PM (Lunch break 1pm-2:30pm)Sunday\, March 20\, 9:30AM-5
 :00PM (Lunch break 1pm-2:30pm)Venue:Yoga Lab StudioAddress: Koningsstraat 
 36\, 1011 EW\, Amsterdam. 10 minutes walk from central railway station.Co
 sts:€ 525\,- for each module.Early bird discount\, when payment is rec
 eived minimally 2 months prior the startdate of a training\, €475\,-Reg
 istration:Space is limited! In case of cancellation of your booking betwee
 n 2 and 6 weeks prior to the train\, half of the costs will be charged. Ca
 ncellation from 2 weeks prior to the training\, the full amount will be c
 harged. Please follow this link to register. For further details please
  contact us.Facilitator:Daan Timmers\, TRE Certification trainer trainee
CATEGORIES:Certification Trainings
LOCATION:Yoga Lab\, Koningsstraat 36\, Amsterdam\, Netherlands
GEO:52.372364;4.901730799999996
X-APPLE-STRUCTURED-LOCATION;VALUE=URI;X-ADDRESS=Koningsstraat 36\, Amsterda
 m\, Netherlands;X-APPLE-RADIUS=100;X-TITLE=Yoga Lab:geo:52.372364,4.901730
 799999996
END:VEVENT
BEGIN:VTIMEZONE
TZID:America/Los_Angeles
X-LIC-LOCATION:America/Los_Angeles
BEGIN:STANDARD
DTSTART:20151101T010000
TZOFFSETFROM:-0700
TZOFFSETTO:-0800
TZNAME:PST
END:STANDARD
END:VTIMEZONE
END:VCALENDAR