BEGIN:VCALENDAR
VERSION:2.0
PRODID:-//wp-events-plugin.com//7.2.3.1//EN
TZID:America/Los_Angeles
X-WR-TIMEZONE:America/Los_Angeles
BEGIN:VEVENT
UID:5848@treglobal.org
DTSTART;TZID=Atlantic/Reykjavik:20230525T180000
DTEND;TZID=Atlantic/Reykjavik:20230525T183000
DTSTAMP:20230501T151305Z
URL:https://treglobal.org/event/4-week-tre-group-class-for-beginners-in-pe
 rson/
SUMMARY:4-Week TRE Group Class for Beginners - In person.
DESCRIPTION:Fimmtudagar\, 25. maí\, og 1\, 8\, 15 júní\, 2023\n\nTími:
  Hver tími er 75 mínútur frá kl. 18:00 - 19:15\n\nStaðsetning:\n\nH
 eillandi hugur - Fræðslu og heilsusetur\n\nHlíðasmári 14 - Jarðhæð
 \, Kópavogur\n\nVerð: 24.900 kr \n\nTakmarkað pláss.\n\nFyrir hvern:
  Þetta námskeið er ætlað byrjendum sem eru að læra TRE í fyrsta s
 inn. Einnig opið fyrir þá sem vilja ná betur tökum á að virkja skj
 álftann og/eða vilja fara hægt af stað eftir að hafa tekið pásu fr
 á TRE. \n\nEf þú ert að takast á við stór áföll í lífinu\, kul
 nun\, eða "burnout" þá mæli ég með einkatíma áður en þú skráir
  þig á hópnámskeið. Nánari upplýsingar hér https://www.svavabrook
 s.com/tre\n\nSkráning hér. https://www.svavabrooks.com/tre-hoptimar-heil
 landi-hugur\n\nEmail. svava@svavabrooks.com
CATEGORIES:Intro Workshops / Recurring Classes / Online Events
LOCATION:Heillandi hugur - Fræðslu og heilsusetur\, Hlíðasmári 14 - Ja
 rðhæð\, Kópavogur\, Kopavogur\, 200\, Iceland
X-APPLE-STRUCTURED-LOCATION;VALUE=URI;X-ADDRESS=Hlíðasmári 14 - Jarðhæ
 ð\, Kópavogur\, Kopavogur\, 200\, Iceland;X-APPLE-RADIUS=100;X-TITLE=Hei
 llandi hugur - Fræðslu og heilsusetur:geo:0,0
END:VEVENT
BEGIN:VTIMEZONE
TZID:Atlantic/Reykjavik
X-LIC-LOCATION:Atlantic/Reykjavik
BEGIN:STANDARD
DTSTART:20220525T180000
TZOFFSETFROM:+0000
TZOFFSETTO:+0000
TZNAME:GMT
END:STANDARD
END:VTIMEZONE
END:VCALENDAR