BEGIN:VCALENDAR
VERSION:2.0
PRODID:-//wp-events-plugin.com//7.2.3.1//EN
TZID:America/Los_Angeles
X-WR-TIMEZONE:America/Los_Angeles
BEGIN:VEVENT
UID:1330@treglobal.org
DTSTART;TZID=America/Los_Angeles:20150916T173000
DTEND;TZID=America/Los_Angeles:20150916T190000
DTSTAMP:20150911T065320Z
URL:https://treglobal.org/event/3-tre-intro-class-series/
SUMMARY:3-TRE™ INTRO CLASS Series
DESCRIPTION:Join us for this TRE™ Introductory Class Series!(3) Consecut
 ive Wednesdays in September\, 2015Wednesday \, September 16\, 2015\, 5:30 
 pm to 7:00 pm Wednesday \, September 23\, 2015\, 5:30 pm to 7:00 pm Wedn
 esday \, September 30\, 2015\, 5:30 pm to 7:00 pm This Series of classes 
 is perfect for those who are brand new to TRE™ as well as those who are 
 already familiar with the practice and would like to take their practice t
 o the next level.If you thrive in groups and want support while establishi
 ng a regular practice then this is the perfect opportunity for you.If inte
 rested please call me\, Daphne\, at (805) 259-7462 or e-mail me at TRE@tre
 centralcoast.comwww.trecentralcoast.comWhile on the website make sure to s
 ign-up to our mailing list so we can keep you informed of future class off
 erings in Los Alamos as well as surrounding areas.I am looking forward to 
 connecting with you.
ATTACH;FMTTYPE=image/jpeg:https://treglobal.org/wp-content/uploads/2015/09
 /1509-LosAlamos.jpg
CATEGORIES:Intro Workshops / Recurring Classes / Online Events
LOCATION:Los Alamos\, P.O. Box 373\, Los Alamos\, CA\, 93440\, United State
 s
GEO:33.9415889;-118.40852999999998
X-APPLE-STRUCTURED-LOCATION;VALUE=URI;X-ADDRESS=P.O. Box 373\, Los Alamos\,
  CA\, 93440\, United States;X-APPLE-RADIUS=100;X-TITLE=Los Alamos:geo:33.9
 415889,-118.40852999999998
END:VEVENT
BEGIN:VTIMEZONE
TZID:America/Los_Angeles
X-LIC-LOCATION:America/Los_Angeles
BEGIN:DAYLIGHT
DTSTART:20150308T030000
TZOFFSETFROM:-0800
TZOFFSETTO:-0700
TZNAME:PDT
END:DAYLIGHT
END:VTIMEZONE
END:VCALENDAR