BEGIN:VCALENDAR
VERSION:2.0
PRODID:-//wp-events-plugin.com//7.2.3.1//EN
TZID:America/Los_Angeles
X-WR-TIMEZONE:America/Los_Angeles
BEGIN:VEVENT
UID:1354@treglobal.org
DTSTART;TZID=America/Los_Angeles:20151030T080000
DTEND;TZID=America/Los_Angeles:20151030T163000
DTSTAMP:20151004T164010Z
URL:https://treglobal.org/event/2nd-annual-trauma-informed-resilient-commu
 nities-conference/
SUMMARY:2nd Annual Trauma Informed &amp\; Resilient Communities Conference
DESCRIPTION:2ND ANNUAL TRAUMA INFORMED &amp\; RESILIENT COMMUNITIES CONFERE
 NCE“Addressing Childhood Trauma\, Resilience and Recovery”Friday\, Oct
 ober 30th\, 2015 Frank G. Pogue Student Center 405 Scotland Road\, Edinbor
 o\, PA  16444Registration 7:30 am to 8:30 am ♦ Conference 8:30 am to 4:
 00 pm This event is sponsored by Crawford &amp\; Erie County Human Servic
 es. Edinboro University\, the Crawford County &amp\; Erie County System of
  Care Partnerships\, and Peace4Crawford.REGISTER AT:  www.edinboro.edu/tr
 auma-conference    Request TRE as your breakout session!The PA System o
 f Care Partnership is funded through a cooperative agreement with the Subs
 tance Abuse &amp\; Mental Health Services Administration (SAMHSA).
CATEGORIES:Intro Workshops / Recurring Classes / Online Events
LOCATION:Edinboro University of Pennsylvania\, 405 Scotland Road \, Edinbor
 o\, Pennsylvania\, 16444\, United States
GEO:41.8719794;-80.1194999
X-APPLE-STRUCTURED-LOCATION;VALUE=URI;X-ADDRESS=405 Scotland Road \, Edinbo
 ro\, Pennsylvania\, 16444\, United States;X-APPLE-RADIUS=100;X-TITLE=Edinb
 oro University of Pennsylvania:geo:41.8719794,-80.1194999
END:VEVENT
BEGIN:VTIMEZONE
TZID:America/Los_Angeles
X-LIC-LOCATION:America/Los_Angeles
BEGIN:DAYLIGHT
DTSTART:20150308T030000
TZOFFSETFROM:-0800
TZOFFSETTO:-0700
TZNAME:PDT
END:DAYLIGHT
END:VTIMEZONE
END:VCALENDAR